BEGIN:VCALENDAR
VERSION:2.0
PRODID:-//Plone.org//NONSGML plone.app.event//EN
X-WR-TIMEZONE:Europe/Madrid
BEGIN:VEVENT
SUMMARY:Sardanova XXI
DTSTART;TZID=Europe/Madrid;VALUE=DATE-TIME:20211107T120000
DTEND;TZID=Europe/Madrid;VALUE=DATE-TIME:20211107T130000
DTSTAMP;VALUE=DATE-TIME:20260424T054746Z
UID:c4c4e28accca6d3ddec16f4164ccd3ee
CREATED;VALUE=DATE-TIME:20211107T000000Z
CATEGORIES:Dansa
ORGANIZER:Ajuntament i Amics de la Sardana
URL:https://www.canetdemar.cat/document.php?id=21925
END:VEVENT
END:VCALENDAR