BEGIN:VCALENDAR
VERSION:2.0
PRODID:-//Plone.org//NONSGML plone.app.event//EN
X-WR-TIMEZONE:Europe/Madrid
BEGIN:VEVENT
SUMMARY:Lliurament de premis Sant Jordi
DTSTART;TZID=Europe/Madrid;VALUE=DATE-TIME:20060423T173000
DTEND;TZID=Europe/Madrid;VALUE=DATE-TIME:20060423T183000
DTSTAMP;VALUE=DATE-TIME:20260422T020123Z
UID:8a5b9b7f7c06a9623f30acb430d98353
CREATED;VALUE=DATE-TIME:20060423T000000Z
URL:https://www.canetdemar.cat/document.php?id=2191
END:VEVENT
END:VCALENDAR