BEGIN:VCALENDAR
VERSION:2.0
PRODID:-//Plone.org//NONSGML plone.app.event//EN
X-WR-TIMEZONE:Europe/Madrid
BEGIN:VEVENT
SUMMARY:Commemoració a Canet de l'1-O
DTSTART;TZID=Europe/Madrid;VALUE=DATE-TIME:20211001T190000
DTEND;TZID=Europe/Madrid;VALUE=DATE-TIME:20211001T200000
DTSTAMP;VALUE=DATE-TIME:20260424T023728Z
UID:94906e65fc8ed0425ddc758dad19078c
CREATED;VALUE=DATE-TIME:20211001T000000Z
LOCATION:Plaça 1 d'Octubre
URL:https://www.canetdemar.cat/document.php?id=21892
END:VEVENT
END:VCALENDAR