BEGIN:VCALENDAR
VERSION:2.0
PRODID:-//Plone.org//NONSGML plone.app.event//EN
X-WR-TIMEZONE:Europe/Madrid
BEGIN:VEVENT
SUMMARY:INSCRIPCIONS CATEQUESI
DTSTART;TZID=Europe/Madrid;VALUE=DATE-TIME:20211001T170000
DTEND;TZID=Europe/Madrid;VALUE=DATE-TIME:20211001T180000
DTSTAMP;VALUE=DATE-TIME:20260424T010918Z
UID:c7d674668bdb9517590f732a14ad245a
CREATED;VALUE=DATE-TIME:20211001T000000Z
CATEGORIES:Cursos
LOCATION:L'Església parroquial entrant per la porta lateral.
ORGANIZER:Parróquia de Sant Pere i Sant Pau, Bisbat de Girona
COMMENT:Preu: 30 euros
DESCRIPTION:Preparació per la primera comunió, seguiment i confirmació
URL:https://www.canetdemar.cat/document.php?id=21886
END:VEVENT
END:VCALENDAR