BEGIN:VCALENDAR
VERSION:2.0
PRODID:-//Plone.org//NONSGML plone.app.event//EN
X-WR-TIMEZONE:Europe/Madrid
BEGIN:VEVENT
SUMMARY:Torneig internacional de Botxes
DTSTART;TZID=Europe/Madrid;VALUE=DATE-TIME:20210917T190000
DTEND;TZID=Europe/Madrid;VALUE=DATE-TIME:20210917T200000
DTSTAMP;VALUE=DATE-TIME:20260422T020615Z
UID:e35eb33e6d1d90afae478dbc0267fdc6
CREATED;VALUE=DATE-TIME:20210917T000000Z
CATEGORIES:Esports
LOCATION:Instal·lacions del Club Botxes Canet
ORGANIZER:Club Botxes Canet
URL:https://www.canetdemar.cat/document.php?id=21873
END:VEVENT
END:VCALENDAR