BEGIN:VCALENDAR
VERSION:2.0
PRODID:-//Plone.org//NONSGML plone.app.event//EN
X-WR-TIMEZONE:Europe/Madrid
BEGIN:VEVENT
SUMMARY:Reunió amb la Gestora del projecte Sostre 360
DTSTART;TZID=Europe/Madrid;VALUE=DATE-TIME:20210916T103000
DTEND;TZID=Europe/Madrid;VALUE=DATE-TIME:20210916T113000
DTSTAMP;VALUE=DATE-TIME:20260424T170748Z
UID:aa67246d7cadbef091d243fa7f9cbf13
CREATED;VALUE=DATE-TIME:20210916T000000Z
CATEGORIES:Agenda institucional
URL:https://www.canetdemar.cat/document.php?id=21860
END:VEVENT
END:VCALENDAR