BEGIN:VCALENDAR
VERSION:2.0
PRODID:-//Plone.org//NONSGML plone.app.event//EN
X-WR-TIMEZONE:Europe/Madrid
BEGIN:VEVENT
SUMMARY:Assistència al Concert de la Gira-sol
DTSTART;TZID=Europe/Madrid;VALUE=DATE-TIME:20210911T220000
DTEND;TZID=Europe/Madrid;VALUE=DATE-TIME:20210911T230000
DTSTAMP;VALUE=DATE-TIME:20260423T151335Z
UID:f25d589dd54029f01811b20f32fe2ea9
CREATED;VALUE=DATE-TIME:20210911T000000Z
CATEGORIES:Agenda institucional
LOCATION:Envelat de Vil·la Flora
URL:https://www.canetdemar.cat/document.php?id=21853
END:VEVENT
END:VCALENDAR