BEGIN:VCALENDAR
VERSION:2.0
PRODID:-//Plone.org//NONSGML plone.app.event//EN
X-WR-TIMEZONE:Europe/Madrid
BEGIN:VEVENT
SUMMARY:Entrega de premis de la 34a edició del concurs de cuita de cargols
DTSTART;TZID=Europe/Madrid;VALUE=DATE-TIME:20210911T200000
DTEND;TZID=Europe/Madrid;VALUE=DATE-TIME:20210911T210000
DTSTAMP;VALUE=DATE-TIME:20260421T192337Z
UID:e93db602969b3681bdb9f2ba930379f4
CREATED;VALUE=DATE-TIME:20210911T000000Z
CATEGORIES:Agenda institucional
LOCATION:Plaça Macià
URL:https://www.canetdemar.cat/document.php?id=21852
END:VEVENT
END:VCALENDAR