BEGIN:VCALENDAR
VERSION:2.0
PRODID:-//Plone.org//NONSGML plone.app.event//EN
X-WR-TIMEZONE:Europe/Madrid
BEGIN:VEVENT
SUMMARY:Ofrena floral de la Diada Nacional de Catalunya
DTSTART;TZID=Europe/Madrid;VALUE=DATE-TIME:20210911T110000
DTEND;TZID=Europe/Madrid;VALUE=DATE-TIME:20210911T120000
DTSTAMP;VALUE=DATE-TIME:20260423T133914Z
UID:57f224abb3d024ff30f7c4b2cb3d9277
CREATED;VALUE=DATE-TIME:20210911T000000Z
CATEGORIES:Agenda institucional
LOCATION:Plaça 11 de Setembre
URL:https://www.canetdemar.cat/document.php?id=21851
END:VEVENT
END:VCALENDAR