BEGIN:VCALENDAR
VERSION:2.0
PRODID:-//Plone.org//NONSGML plone.app.event//EN
X-WR-TIMEZONE:Europe/Madrid
BEGIN:VEVENT
SUMMARY:Acte institucional de la Diada Nacional de Catalunya
DTSTART;TZID=Europe/Madrid;VALUE=DATE-TIME:20210911T100000
DTEND;TZID=Europe/Madrid;VALUE=DATE-TIME:20210911T110000
DTSTAMP;VALUE=DATE-TIME:20260423T102405Z
UID:a3c1a143159465b83becfb272b33d7eb
CREATED;VALUE=DATE-TIME:20210911T000000Z
CATEGORIES:Agenda institucional
LOCATION:Plaça 11 de Setembre
URL:https://www.canetdemar.cat/document.php?id=21850
END:VEVENT
END:VCALENDAR