BEGIN:VCALENDAR
VERSION:2.0
PRODID:-//Plone.org//NONSGML plone.app.event//EN
X-WR-TIMEZONE:Europe/Madrid
BEGIN:VEVENT
SUMMARY:Actes de Festa Major Petita - CELEBRACIÓ DE L´EUCARISTIA
DTSTART;TZID=Europe/Madrid;VALUE=DATE-TIME:20210908T193000
DTEND;TZID=Europe/Madrid;VALUE=DATE-TIME:20210908T203000
DTSTAMP;VALUE=DATE-TIME:20260422T034702Z
UID:b4976a8de6961853583653d645a95c35
CREATED;VALUE=DATE-TIME:20210908T000000Z
CATEGORIES:Agenda institucional
LOCATION:Santuari de la Misericòrdia
URL:https://www.canetdemar.cat/document.php?id=21849
END:VEVENT
END:VCALENDAR