BEGIN:VCALENDAR
VERSION:2.0
PRODID:-//Plone.org//NONSGML plone.app.event//EN
X-WR-TIMEZONE:Europe/Madrid
BEGIN:VEVENT
SUMMARY:Inauguració de l'exposició 'Alfons Viñas. El fotògraf de la Fira Modernista'
DTSTART;TZID=Europe/Madrid;VALUE=DATE-TIME:20210906T180000
DTEND;TZID=Europe/Madrid;VALUE=DATE-TIME:20210906T190000
DTSTAMP;VALUE=DATE-TIME:20260422T144358Z
UID:2b3112f98b9e958a496fb6d1ee8c2c56
CREATED;VALUE=DATE-TIME:20210906T000000Z
CATEGORIES:Agenda institucional
LOCATION:Sala Cultural Ramon de Capmany
URL:https://www.canetdemar.cat/document.php?id=21844
END:VEVENT
END:VCALENDAR