BEGIN:VCALENDAR
VERSION:2.0
PRODID:-//Plone.org//NONSGML plone.app.event//EN
X-WR-TIMEZONE:Europe/Madrid
BEGIN:VEVENT
SUMMARY:Reunió de DUPROCIM
DTSTART;TZID=Europe/Madrid;VALUE=DATE-TIME:20210927T120000
DTEND;TZID=Europe/Madrid;VALUE=DATE-TIME:20210927T130000
DTSTAMP;VALUE=DATE-TIME:20260424T202515Z
UID:9a0ba14ba3d60c56cd6381a4e20a399e
CREATED;VALUE=DATE-TIME:20210927T000000Z
CATEGORIES:Agenda institucional
URL:https://www.canetdemar.cat/document.php?id=21843
END:VEVENT
END:VCALENDAR