BEGIN:VCALENDAR
VERSION:2.0
PRODID:-//Plone.org//NONSGML plone.app.event//EN
X-WR-TIMEZONE:Europe/Madrid
BEGIN:VEVENT
SUMMARY:Reunió amb els responsables d'organització de la brigada
DTSTART;TZID=Europe/Madrid;VALUE=DATE-TIME:20210929T120000
DTEND;TZID=Europe/Madrid;VALUE=DATE-TIME:20210929T130000
DTSTAMP;VALUE=DATE-TIME:20260421T210653Z
UID:0c13bdd9c62bfb656c8f2274fdf7ec6f
CREATED;VALUE=DATE-TIME:20210929T000000Z
CATEGORIES:Agenda institucional
LOCATION:Nau de la brigada municipal
URL:https://www.canetdemar.cat/document.php?id=21826
END:VEVENT
END:VCALENDAR