BEGIN:VCALENDAR
VERSION:2.0
PRODID:-//Plone.org//NONSGML plone.app.event//EN
X-WR-TIMEZONE:Europe/Madrid
BEGIN:VEVENT
SUMMARY:Reunió coordinació interna Ajuntament
DTSTART;TZID=Europe/Madrid;VALUE=DATE-TIME:20210915T110000
DTEND;TZID=Europe/Madrid;VALUE=DATE-TIME:20210915T120000
DTSTAMP;VALUE=DATE-TIME:20260424T120440Z
UID:f8f9ecd0415ea16d4b24028a57098b24
CREATED;VALUE=DATE-TIME:20210915T000000Z
CATEGORIES:Agenda institucional
URL:https://www.canetdemar.cat/document.php?id=21819
END:VEVENT
END:VCALENDAR