BEGIN:VCALENDAR
VERSION:2.0
PRODID:-//Plone.org//NONSGML plone.app.event//EN
X-WR-TIMEZONE:Europe/Madrid
BEGIN:VEVENT
SUMMARY:Reunió coordinació interna Ajuntament
DTSTART;TZID=Europe/Madrid;VALUE=DATE-TIME:20210908T110000
DTEND;TZID=Europe/Madrid;VALUE=DATE-TIME:20210908T120000
DTSTAMP;VALUE=DATE-TIME:20260423T015827Z
UID:d73b5593d8561d71fd7acda44fbe17ca
CREATED;VALUE=DATE-TIME:20210908T000000Z
CATEGORIES:Agenda institucional
URL:https://www.canetdemar.cat/document.php?id=21818
END:VEVENT
END:VCALENDAR