BEGIN:VCALENDAR
VERSION:2.0
PRODID:-//Plone.org//NONSGML plone.app.event//EN
X-WR-TIMEZONE:Europe/Madrid
BEGIN:VEVENT
SUMMARY:Reunió coordinació amb l'Àrea de Seguretat Ciutadana
DTSTART;TZID=Europe/Madrid;VALUE=DATE-TIME:20210915T090000
DTEND;TZID=Europe/Madrid;VALUE=DATE-TIME:20210915T100000
DTSTAMP;VALUE=DATE-TIME:20260422T184252Z
UID:63adf83b4e60570f9ddde3dfb8aabc9a
CREATED;VALUE=DATE-TIME:20210915T000000Z
CATEGORIES:Agenda institucional
LOCATION:Comissaria de la Policia Local
URL:https://www.canetdemar.cat/document.php?id=21814
END:VEVENT
END:VCALENDAR