BEGIN:VCALENDAR
VERSION:2.0
PRODID:-//Plone.org//NONSGML plone.app.event//EN
X-WR-TIMEZONE:Europe/Madrid
BEGIN:VEVENT
SUMMARY:Les aventures d'en Trescebes de David Estrada
DTSTART;TZID=Europe/Madrid;VALUE=DATE-TIME:20211022T173000
DTEND;TZID=Europe/Madrid;VALUE=DATE-TIME:20211022T183000
DTSTAMP;VALUE=DATE-TIME:20260424T220940Z
UID:ed2e0380a3ef5cfc46e0ce3e3b973bfa
CREATED;VALUE=DATE-TIME:20211022T000000Z
LOCATION:Biblioteca P. Gual i Pujadas
ORGANIZER:Biblioteca P. Gual i Pujadas
COMMENT:Preu: Gratuït
DESCRIPTION:Hora del conte
URL:https://www.canetdemar.cat/document.php?id=21805
END:VEVENT
END:VCALENDAR