BEGIN:VCALENDAR
VERSION:2.0
PRODID:-//Plone.org//NONSGML plone.app.event//EN
X-WR-TIMEZONE:Europe/Madrid
BEGIN:VEVENT
SUMMARY:Tarda de Màgia amb Albert Llorens
DTSTART;TZID=Europe/Madrid;VALUE=DATE-TIME:20210905T123000
DTEND;TZID=Europe/Madrid;VALUE=DATE-TIME:20210905T133000
DTSTAMP;VALUE=DATE-TIME:20260422T164100Z
UID:230e67b45669eb878b1dd20cc892d399
CREATED;VALUE=DATE-TIME:20210905T000000Z
CATEGORIES:Música,Teatre
LOCATION:Festival Jardins Comediants
ORGANIZER:Associació Jubilats Canet de Mar
COMMENT:Preu: 9&euro;
Durada: 1.30h amb mitja part inclosa
URL:https://www.canetdemar.cat/document.php?id=21795
END:VEVENT
END:VCALENDAR