BEGIN:VCALENDAR
VERSION:2.0
PRODID:-//Plone.org//NONSGML plone.app.event//EN
X-WR-TIMEZONE:Europe/Madrid
BEGIN:VEVENT
SUMMARY:Exposició: Canet 1900: Memòria Retrobada
DTSTART;TZID=Europe/Madrid;VALUE=DATE-TIME:20210907T000000
DTEND;TZID=Europe/Madrid;VALUE=DATE-TIME:20210907T010000
DTSTAMP;VALUE=DATE-TIME:20260425T192201Z
UID:489def90b26c4faa65105833e019e0f9
CREATED;VALUE=DATE-TIME:20210907T000000Z
CATEGORIES:Exposició
LOCATION:Casa museu Lluís Domènech i Montaner
ORGANIZER:Àrea de Cultura
COMMENT:Preu: Gratuït
Durada: del 7 de setembre de 2021 al 13 de febrer de 2022
DESCRIPTION:La vila i la seva gent a través de la mirada fotogràfica
URL:https://www.canetdemar.cat/document.php?id=21785
END:VEVENT
END:VCALENDAR