BEGIN:VCALENDAR
VERSION:2.0
PRODID:-//Plone.org//NONSGML plone.app.event//EN
X-WR-TIMEZONE:Europe/Madrid
BEGIN:VEVENT
SUMMARY:Ruta íntima Lluís Domènech i Montaner
DTSTART;TZID=Europe/Madrid;VALUE=DATE-TIME:20210918T000000
DTEND;TZID=Europe/Madrid;VALUE=DATE-TIME:20210918T010000
DTSTAMP;VALUE=DATE-TIME:20260424T202545Z
UID:4850fd73bc3ab5104c6e4e9afdda2e7b
CREATED;VALUE=DATE-TIME:20210918T000000Z
LOCATION:Punt de trobada: xamfrà rieres Buscarons i Gavarra (davant la Casa museu Lluís Domènech i Montaner)
ORGANIZER:Centre d'Estudis Lluís Domènech i Montaner
COMMENT:Preu: 7 &euro; (preu especial Fira mercat Modernista)
Durada: Dissabte 18 de setembre a les 10.45h, 11.45 h, 17.30 h, 18.30 h/ Diumenge 19 de setembre a les 10.45 h, 11.45 h, 17.30 h, 18.30 h
DESCRIPTION:Especial 13a Fira mercat Modernista
URL:https://www.canetdemar.cat/document.php?id=21761
END:VEVENT
END:VCALENDAR