BEGIN:VCALENDAR
VERSION:2.0
PRODID:-//Plone.org//NONSGML plone.app.event//EN
X-WR-TIMEZONE:Europe/Madrid
BEGIN:VEVENT
SUMMARY:D.E.F. Project
DTSTART;TZID=Europe/Madrid;VALUE=DATE-TIME:20210815T193000
DTEND;TZID=Europe/Madrid;VALUE=DATE-TIME:20210815T203000
DTSTAMP;VALUE=DATE-TIME:20260425T193937Z
UID:9a5bb29e1ef9de4b42f6623d114c0d88
CREATED;VALUE=DATE-TIME:20210815T000000Z
CATEGORIES:Música
LOCATION:Jardins Comediants
ORGANIZER:Associació jubilats canet de mar
COMMENT:Preu: 9&euro;
Durada: 1.30h
DESCRIPTION:Standars Jazz. Xavier Dotras
URL:https://www.canetdemar.cat/document.php?id=21743
END:VEVENT
END:VCALENDAR