BEGIN:VCALENDAR
VERSION:2.0
PRODID:-//Plone.org//NONSGML plone.app.event//EN
X-WR-TIMEZONE:Europe/Madrid
BEGIN:VEVENT
SUMMARY:Reunió amb Delegació de Govern per tractar temes relacionats amb la COVID-19
DTSTART;TZID=Europe/Madrid;VALUE=DATE-TIME:20210806T093000
DTEND;TZID=Europe/Madrid;VALUE=DATE-TIME:20210806T103000
DTSTAMP;VALUE=DATE-TIME:20260423T115831Z
UID:1a1275198fd3fb1d6e665cfe7fe318b0
CREATED;VALUE=DATE-TIME:20210806T000000Z
CATEGORIES:Agenda institucional
URL:https://www.canetdemar.cat/document.php?id=21740
END:VEVENT
END:VCALENDAR