BEGIN:VCALENDAR
VERSION:2.0
PRODID:-//Plone.org//NONSGML plone.app.event//EN
X-WR-TIMEZONE:Europe/Madrid
BEGIN:VEVENT
SUMMARY:Reunió de seguiment de l'àrea de jardineria
DTSTART;TZID=Europe/Madrid;VALUE=DATE-TIME:20210826T083000
DTEND;TZID=Europe/Madrid;VALUE=DATE-TIME:20210826T093000
DTSTAMP;VALUE=DATE-TIME:20260424T162646Z
UID:ec8f0796d68c05aafdcb01ec6345cdc4
CREATED;VALUE=DATE-TIME:20210826T000000Z
CATEGORIES:Agenda institucional
LOCATION:Sala annexa Alcaldia
URL:https://www.canetdemar.cat/document.php?id=21738
END:VEVENT
END:VCALENDAR