BEGIN:VCALENDAR
VERSION:2.0
PRODID:-//Plone.org//NONSGML plone.app.event//EN
X-WR-TIMEZONE:Europe/Madrid
BEGIN:VEVENT
SUMMARY:Visita a l'aparcament de 'Vagons'
DTSTART;TZID=Europe/Madrid;VALUE=DATE-TIME:20210716T103000
DTEND;TZID=Europe/Madrid;VALUE=DATE-TIME:20210716T113000
DTSTAMP;VALUE=DATE-TIME:20260424T152110Z
UID:b350a320b9d12bf400aa4cc0913ab2b4
CREATED;VALUE=DATE-TIME:20210716T000000Z
CATEGORIES:Agenda institucional
URL:https://www.canetdemar.cat/document.php?id=21707
END:VEVENT
END:VCALENDAR