BEGIN:VCALENDAR
VERSION:2.0
PRODID:-//Plone.org//NONSGML plone.app.event//EN
X-WR-TIMEZONE:Europe/Madrid
BEGIN:VEVENT
SUMMARY:Junta de Govern Local
DTSTART;TZID=Europe/Madrid;VALUE=DATE-TIME:20210805T170000
DTEND;TZID=Europe/Madrid;VALUE=DATE-TIME:20210805T180000
DTSTAMP;VALUE=DATE-TIME:20260426T032110Z
UID:8e5d6f48aa36cea0346cefe2ab220516
CREATED;VALUE=DATE-TIME:20210805T000000Z
CATEGORIES:Agenda institucional
URL:https://www.canetdemar.cat/document.php?id=21702
END:VEVENT
END:VCALENDAR