BEGIN:VCALENDAR
VERSION:2.0
PRODID:-//Plone.org//NONSGML plone.app.event//EN
X-WR-TIMEZONE:Europe/Madrid
BEGIN:VEVENT
SUMMARY:Presentació del Pla de Futur de Canet
DTSTART;TZID=Europe/Madrid;VALUE=DATE-TIME:20030307T200000
DTEND;TZID=Europe/Madrid;VALUE=DATE-TIME:20030307T210000
DTSTAMP;VALUE=DATE-TIME:20260425T015233Z
UID:2ef08021cc47766a25d46c408f6efa8d
CREATED;VALUE=DATE-TIME:20030307T000000Z
URL:https://www.canetdemar.cat/document.php?id=217
END:VEVENT
END:VCALENDAR