BEGIN:VCALENDAR
VERSION:2.0
PRODID:-//Plone.org//NONSGML plone.app.event//EN
X-WR-TIMEZONE:Europe/Madrid
BEGIN:VEVENT
SUMMARY:Reunió amb la Directora General de l' ICF
DTSTART;TZID=Europe/Madrid;VALUE=DATE-TIME:20210715T130000
DTEND;TZID=Europe/Madrid;VALUE=DATE-TIME:20210715T140000
DTSTAMP;VALUE=DATE-TIME:20260424T041238Z
UID:32449f1216058c9f06cdc16ec47d2b38
CREATED;VALUE=DATE-TIME:20210715T000000Z
CATEGORIES:Agenda institucional
URL:https://www.canetdemar.cat/document.php?id=21698
END:VEVENT
END:VCALENDAR