BEGIN:VCALENDAR
VERSION:2.0
PRODID:-//Plone.org//NONSGML plone.app.event//EN
X-WR-TIMEZONE:Europe/Madrid
BEGIN:VEVENT
SUMMARY:Reunió de seguiment de l'àrea de jardineria
DTSTART;TZID=Europe/Madrid;VALUE=DATE-TIME:20210715T083000
DTEND;TZID=Europe/Madrid;VALUE=DATE-TIME:20210715T093000
DTSTAMP;VALUE=DATE-TIME:20260422T235532Z
UID:2922a45434269b1de884b8afc5fbeeaa
CREATED;VALUE=DATE-TIME:20210715T000000Z
CATEGORIES:Agenda institucional
LOCATION:Sala annexa Alcaldia
URL:https://www.canetdemar.cat/document.php?id=21697
END:VEVENT
END:VCALENDAR