BEGIN:VCALENDAR
VERSION:2.0
PRODID:-//Plone.org//NONSGML plone.app.event//EN
X-WR-TIMEZONE:Europe/Madrid
BEGIN:VEVENT
SUMMARY:Reunió amb SAREB
DTSTART;TZID=Europe/Madrid;VALUE=DATE-TIME:20210713T120000
DTEND;TZID=Europe/Madrid;VALUE=DATE-TIME:20210713T130000
DTSTAMP;VALUE=DATE-TIME:20260421T174300Z
UID:8c15e36be5e28d3ff202be99cca18c7f
CREATED;VALUE=DATE-TIME:20210713T000000Z
CATEGORIES:Agenda institucional
URL:https://www.canetdemar.cat/document.php?id=21692
END:VEVENT
END:VCALENDAR