BEGIN:VCALENDAR
VERSION:2.0
PRODID:-//Plone.org//NONSGML plone.app.event//EN
X-WR-TIMEZONE:Europe/Madrid
BEGIN:VEVENT
SUMMARY:Entrega Premi Bonal
DTSTART;TZID=Europe/Madrid;VALUE=DATE-TIME:20210713T090000
DTEND;TZID=Europe/Madrid;VALUE=DATE-TIME:20210713T100000
DTSTAMP;VALUE=DATE-TIME:20260424T040847Z
UID:0a8829dd757e0877705e5b83fb45910e
CREATED;VALUE=DATE-TIME:20210713T000000Z
CATEGORIES:Agenda institucional
LOCATION:Casa Museu Lluís Domènech i Montaner - Can Rocosa
URL:https://www.canetdemar.cat/document.php?id=21690
END:VEVENT
END:VCALENDAR