BEGIN:VCALENDAR
VERSION:2.0
PRODID:-//Plone.org//NONSGML plone.app.event//EN
X-WR-TIMEZONE:Europe/Madrid
BEGIN:VEVENT
SUMMARY:Reunió Comendaments Policials
DTSTART;TZID=Europe/Madrid;VALUE=DATE-TIME:20210712T134500
DTEND;TZID=Europe/Madrid;VALUE=DATE-TIME:20210712T144500
DTSTAMP;VALUE=DATE-TIME:20260423T014623Z
UID:85988957984f23eb676c03f9c89d9914
CREATED;VALUE=DATE-TIME:20210712T000000Z
CATEGORIES:Agenda institucional
LOCATION:Comissaria de policia
URL:https://www.canetdemar.cat/document.php?id=21689
END:VEVENT
END:VCALENDAR