BEGIN:VCALENDAR
VERSION:2.0
PRODID:-//Plone.org//NONSGML plone.app.event//EN
X-WR-TIMEZONE:Europe/Madrid
BEGIN:VEVENT
SUMMARY:Reunió de DUPROCIM
DTSTART;TZID=Europe/Madrid;VALUE=DATE-TIME:20210830T120000
DTEND;TZID=Europe/Madrid;VALUE=DATE-TIME:20210830T130000
DTSTAMP;VALUE=DATE-TIME:20260424T000001Z
UID:37ff0476dc73a499f40aa9fdf3cf3abc
CREATED;VALUE=DATE-TIME:20210830T000000Z
CATEGORIES:Agenda institucional
URL:https://www.canetdemar.cat/document.php?id=21688
END:VEVENT
END:VCALENDAR