BEGIN:VCALENDAR
VERSION:2.0
PRODID:-//Plone.org//NONSGML plone.app.event//EN
X-WR-TIMEZONE:Europe/Madrid
BEGIN:VEVENT
SUMMARY:Reunió de DUPROCIM
DTSTART;TZID=Europe/Madrid;VALUE=DATE-TIME:20210809T120000
DTEND;TZID=Europe/Madrid;VALUE=DATE-TIME:20210809T130000
DTSTAMP;VALUE=DATE-TIME:20260423T015027Z
UID:8957c7019e0f0e2ba1487cb0f0a4af36
CREATED;VALUE=DATE-TIME:20210809T000000Z
CATEGORIES:Agenda institucional
URL:https://www.canetdemar.cat/document.php?id=21685
END:VEVENT
END:VCALENDAR