BEGIN:VCALENDAR
VERSION:2.0
PRODID:-//Plone.org//NONSGML plone.app.event//EN
X-WR-TIMEZONE:Europe/Madrid
BEGIN:VEVENT
SUMMARY:El Maresme amb la recerca
DTSTART;TZID=Europe/Madrid;VALUE=DATE-TIME:20210924T183000
DTEND;TZID=Europe/Madrid;VALUE=DATE-TIME:20210924T193000
DTSTAMP;VALUE=DATE-TIME:20260423T133517Z
UID:db58300c354cbf8f79bfee4f2bb77ffb
CREATED;VALUE=DATE-TIME:20210924T000000Z
LOCATION:Biblioteca P. Gual i Pujadas
ORGANIZER:Biblioteca P. Gual i Pujadas
COMMENT:Preu: Gratuït
DESCRIPTION:La nova revolució tèxtil del s XXI i la integració d'intel·ligència als teixits a càrrec de Miquel Soler director del  CRTTT- Escola de Teixits
URL:https://www.canetdemar.cat/document.php?id=21646
END:VEVENT
END:VCALENDAR