BEGIN:VCALENDAR
VERSION:2.0
PRODID:-//Plone.org//NONSGML plone.app.event//EN
X-WR-TIMEZONE:Europe/Madrid
BEGIN:VEVENT
SUMMARY:Trobada amb el CEDIM
DTSTART;TZID=Europe/Madrid;VALUE=DATE-TIME:20210708T183000
DTEND;TZID=Europe/Madrid;VALUE=DATE-TIME:20210708T193000
DTSTAMP;VALUE=DATE-TIME:20260420T001412Z
UID:c9037483bac0889d89f230679360d31c
CREATED;VALUE=DATE-TIME:20210708T000000Z
CATEGORIES:Agenda institucional
LOCATION:Sala annexa Alcaldia
URL:https://www.canetdemar.cat/document.php?id=21624
END:VEVENT
END:VCALENDAR