BEGIN:VCALENDAR
VERSION:2.0
PRODID:-//Plone.org//NONSGML plone.app.event//EN
X-WR-TIMEZONE:Europe/Madrid
BEGIN:VEVENT
SUMMARY:Reunió amb la direcció del Projecte Sostre 360
DTSTART;TZID=Europe/Madrid;VALUE=DATE-TIME:20210708T130000
DTEND;TZID=Europe/Madrid;VALUE=DATE-TIME:20210708T140000
DTSTAMP;VALUE=DATE-TIME:20260420T032855Z
UID:17ed4cadb538f0cad198598380e7da6f
CREATED;VALUE=DATE-TIME:20210708T000000Z
CATEGORIES:Agenda institucional
URL:https://www.canetdemar.cat/document.php?id=21622
END:VEVENT
END:VCALENDAR