BEGIN:VCALENDAR
VERSION:2.0
PRODID:-//Plone.org//NONSGML plone.app.event//EN
X-WR-TIMEZONE:Europe/Madrid
BEGIN:VEVENT
SUMMARY:Presentació vestits patges Reis
DTSTART;TZID=Europe/Madrid;VALUE=DATE-TIME:20210622T120000
DTEND;TZID=Europe/Madrid;VALUE=DATE-TIME:20210622T130000
DTSTAMP;VALUE=DATE-TIME:20260424T230200Z
UID:cd301e44da2bbfd4699d90fc1eb3b584
CREATED;VALUE=DATE-TIME:20210622T000000Z
CATEGORIES:Agenda institucional
LOCATION:Casa Museu Lluís Domènech i Montaner
URL:https://www.canetdemar.cat/document.php?id=21576
END:VEVENT
END:VCALENDAR