BEGIN:VCALENDAR
VERSION:2.0
PRODID:-//Plone.org//NONSGML plone.app.event//EN
X-WR-TIMEZONE:Europe/Madrid
BEGIN:VEVENT
SUMMARY:Junta de Govern Local
DTSTART;TZID=Europe/Madrid;VALUE=DATE-TIME:20210701T170000
DTEND;TZID=Europe/Madrid;VALUE=DATE-TIME:20210701T180000
DTSTAMP;VALUE=DATE-TIME:20260423T172530Z
UID:ad33a53a4237bcb32b35dff7ff580fe1
CREATED;VALUE=DATE-TIME:20210701T000000Z
CATEGORIES:Agenda institucional
URL:https://www.canetdemar.cat/document.php?id=21566
END:VEVENT
END:VCALENDAR