BEGIN:VCALENDAR
VERSION:2.0
PRODID:-//Plone.org//NONSGML plone.app.event//EN
X-WR-TIMEZONE:Europe/Madrid
BEGIN:VEVENT
SUMMARY:Reunió amb el regidor Pere Xirau
DTSTART;TZID=Europe/Madrid;VALUE=DATE-TIME:20210621T113000
DTEND;TZID=Europe/Madrid;VALUE=DATE-TIME:20210621T123000
DTSTAMP;VALUE=DATE-TIME:20260421T124301Z
UID:a095b759283a17bcd2a56d06e946bd4d
CREATED;VALUE=DATE-TIME:20210621T000000Z
CATEGORIES:Agenda institucional
URL:https://www.canetdemar.cat/document.php?id=21552
END:VEVENT
END:VCALENDAR