BEGIN:VCALENDAR
VERSION:2.0
PRODID:-//Plone.org//NONSGML plone.app.event//EN
X-WR-TIMEZONE:Europe/Madrid
BEGIN:VEVENT
SUMMARY:Reunió amb un veí de Canet de Mar
DTSTART;TZID=Europe/Madrid;VALUE=DATE-TIME:20210610T120000
DTEND;TZID=Europe/Madrid;VALUE=DATE-TIME:20210610T130000
DTSTAMP;VALUE=DATE-TIME:20260424T115131Z
UID:d1bc984fc8a1581da9df0eb3c7ce405c
CREATED;VALUE=DATE-TIME:20210610T000000Z
CATEGORIES:Agenda institucional
URL:https://www.canetdemar.cat/document.php?id=21541
END:VEVENT
END:VCALENDAR