BEGIN:VCALENDAR
VERSION:2.0
PRODID:-//Plone.org//NONSGML plone.app.event//EN
X-WR-TIMEZONE:Europe/Madrid
BEGIN:VEVENT
SUMMARY:Visita platges del municipi
DTSTART;TZID=Europe/Madrid;VALUE=DATE-TIME:20210609T080000
DTEND;TZID=Europe/Madrid;VALUE=DATE-TIME:20210609T090000
DTSTAMP;VALUE=DATE-TIME:20260421T160110Z
UID:7dca06e41e86d0fecd24a9ca4a2fa6a3
CREATED;VALUE=DATE-TIME:20210609T000000Z
CATEGORIES:Agenda institucional
LOCATION:Platja de Canet i Platja del Cavaió.
URL:https://www.canetdemar.cat/document.php?id=21528
END:VEVENT
END:VCALENDAR