BEGIN:VCALENDAR
VERSION:2.0
PRODID:-//Plone.org//NONSGML plone.app.event//EN
X-WR-TIMEZONE:Europe/Madrid
BEGIN:VEVENT
SUMMARY:Reunió amb les àrees d'Noves Tecnologies i Recursos Humans
DTSTART;TZID=Europe/Madrid;VALUE=DATE-TIME:20210608T100000
DTEND;TZID=Europe/Madrid;VALUE=DATE-TIME:20210608T110000
DTSTAMP;VALUE=DATE-TIME:20260424T203338Z
UID:dfb32759ed60f4625b10c6e130a21424
CREATED;VALUE=DATE-TIME:20210608T000000Z
CATEGORIES:Agenda institucional
URL:https://www.canetdemar.cat/document.php?id=21526
END:VEVENT
END:VCALENDAR