BEGIN:VCALENDAR
VERSION:2.0
PRODID:-//Plone.org//NONSGML plone.app.event//EN
X-WR-TIMEZONE:Europe/Madrid
BEGIN:VEVENT
SUMMARY:Reunió de DUPROCIM
DTSTART;TZID=Europe/Madrid;VALUE=DATE-TIME:20210621T120000
DTEND;TZID=Europe/Madrid;VALUE=DATE-TIME:20210621T130000
DTSTAMP;VALUE=DATE-TIME:20260425T060516Z
UID:06b8f29f496b28330213ef3247abe3fc
CREATED;VALUE=DATE-TIME:20210621T000000Z
CATEGORIES:Agenda institucional
URL:https://www.canetdemar.cat/document.php?id=21519
END:VEVENT
END:VCALENDAR