BEGIN:VCALENDAR
VERSION:2.0
PRODID:-//Plone.org//NONSGML plone.app.event//EN
X-WR-TIMEZONE:Europe/Madrid
BEGIN:VEVENT
SUMMARY:"La Maria us convida a passar..."
DTSTART;TZID=Europe/Madrid;VALUE=DATE-TIME:20210627T110000
DTEND;TZID=Europe/Madrid;VALUE=DATE-TIME:20210627T120000
DTSTAMP;VALUE=DATE-TIME:20260422T222618Z
UID:ca9737f01791a91e0f3baeebbd1dfdad
CREATED;VALUE=DATE-TIME:20210627T000000Z
CATEGORIES:Teatre
LOCATION:Casa museu Lluís Domènech i Montaner
ORGANIZER:Àrea de Cultura
COMMENT:Preu: 5&euro; (menors de 12 anys gratuït)
Durada: 1h
DESCRIPTION:Visita teatralitzada a la Casa museu
URL:https://www.canetdemar.cat/document.php?id=21511
END:VEVENT
END:VCALENDAR