BEGIN:VCALENDAR
VERSION:2.0
PRODID:-//Plone.org//NONSGML plone.app.event//EN
X-WR-TIMEZONE:Europe/Madrid
BEGIN:VEVENT
SUMMARY:Exposició col.lectiva GUERRES NO
DTSTART;TZID=Europe/Madrid;VALUE=DATE-TIME:20030324T000000
DTEND;TZID=Europe/Madrid;VALUE=DATE-TIME:20030324T010000
DTSTAMP;VALUE=DATE-TIME:20260425T151543Z
UID:be3090fec1036fd75aab5e95c9eeac42
CREATED;VALUE=DATE-TIME:20030324T000000Z
DESCRIPTION:Inauguració 27 de febrer a les 20.00 hores
URL:https://www.canetdemar.cat/document.php?id=215
END:VEVENT
END:VCALENDAR