BEGIN:VCALENDAR
VERSION:2.0
PRODID:-//Plone.org//NONSGML plone.app.event//EN
X-WR-TIMEZONE:Europe/Madrid
BEGIN:VEVENT
SUMMARY:Splash slide, el tobogan infinit!
DTSTART;TZID=Europe/Madrid;VALUE=DATE-TIME:20210629T110000
DTEND;TZID=Europe/Madrid;VALUE=DATE-TIME:20210629T120000
DTSTAMP;VALUE=DATE-TIME:20260425T125048Z
UID:d0e36cb1350e5212038c58a7d772880f
CREATED;VALUE=DATE-TIME:20210629T000000Z
CATEGORIES:Festa,Infantils
LOCATION:Avinguda Dr. Fleming
ORGANIZER:Àrea de Festes
COMMENT:Preu: Gratuït
Durada: D'11.00 a 14.00 hores
DESCRIPTION:Festa Major Sant Pere 2021
URL:https://www.canetdemar.cat/document.php?id=21472
END:VEVENT
END:VCALENDAR