BEGIN:VCALENDAR
VERSION:2.0
PRODID:-//Plone.org//NONSGML plone.app.event//EN
X-WR-TIMEZONE:Europe/Madrid
BEGIN:VEVENT
SUMMARY:Cantada d'havaneres
DTSTART;TZID=Europe/Madrid;VALUE=DATE-TIME:20210627T220000
DTEND;TZID=Europe/Madrid;VALUE=DATE-TIME:20210627T230000
DTSTAMP;VALUE=DATE-TIME:20260423T235223Z
UID:c71c5d80d5c5a97a270a6044748de328
CREATED;VALUE=DATE-TIME:20210627T000000Z
CATEGORIES:Festa,Música
LOCATION:Pistes de l'Institut Lluís Domènech
ORGANIZER:Àrea de Festes, Comissió de Festes
COMMENT:Preu: Gratuït
DESCRIPTION:Festa Major Sant Pere 2021
URL:https://www.canetdemar.cat/document.php?id=21467
END:VEVENT
END:VCALENDAR