BEGIN:VCALENDAR
VERSION:2.0
PRODID:-//Plone.org//NONSGML plone.app.event//EN
X-WR-TIMEZONE:Europe/Madrid
BEGIN:VEVENT
SUMMARY:Modernisme i vitralls
DTSTART;TZID=Europe/Madrid;VALUE=DATE-TIME:20210619T183000
DTEND;TZID=Europe/Madrid;VALUE=DATE-TIME:20210619T193000
DTSTAMP;VALUE=DATE-TIME:20260423T034436Z
UID:ec26373b9c4a28b6caedba38c169625d
CREATED;VALUE=DATE-TIME:20210619T000000Z
LOCATION:Punt de trobada : Casa museu Lluís Domènech i Montaner
ORGANIZER:Àrea de Promoció Econòmica i Turisme i Àrea de Cultura
COMMENT:Preu: 7&euro; (menors de 12 anys gratuïta)
Durada: 1h 30'
DESCRIPTION:Gaudeix dels secrets dels vitralls
URL:https://www.canetdemar.cat/document.php?id=21444
END:VEVENT
END:VCALENDAR