BEGIN:VCALENDAR
VERSION:2.0
PRODID:-//Plone.org//NONSGML plone.app.event//EN
X-WR-TIMEZONE:Europe/Madrid
BEGIN:VEVENT
SUMMARY:Trobada tècnica de l'àrea d'Urbanisme
DTSTART;TZID=Europe/Madrid;VALUE=DATE-TIME:20210518T120000
DTEND;TZID=Europe/Madrid;VALUE=DATE-TIME:20210518T130000
DTSTAMP;VALUE=DATE-TIME:20260423T234548Z
UID:45c11095b7597ed978721ee329cbb5a4
CREATED;VALUE=DATE-TIME:20210518T000000Z
CATEGORIES:Agenda institucional
URL:https://www.canetdemar.cat/document.php?id=21374
END:VEVENT
END:VCALENDAR